BEGIN:VCALENDAR
VERSION:2.0
PRODID:-//pretix//mcc_Events//
BEGIN:VTIMEZONE
TZID:Europe/Berlin
BEGIN:STANDARD
DTSTART:20001029T040000
RRULE:FREQ=YEARLY;BYDAY=-1SU;BYMONTH=10
TZNAME:CET
TZOFFSETFROM:+0200
TZOFFSETTO:+0100
END:STANDARD
BEGIN:DAYLIGHT
DTSTART:20000326T030000
RRULE:FREQ=YEARLY;BYDAY=-1SU;BYMONTH=3
TZNAME:CEST
TZOFFSETFROM:+0100
TZOFFSETTO:+0200
END:DAYLIGHT
END:VTIMEZONE
BEGIN:VEVENT
UID:pretix-leistungszentrum-mn-si-0@tickets.mcc-events.de
DTSTART;TZID=Europe/Berlin:20260903T090000
DTEND;TZID=Europe/Berlin:20260903T170000
DESCRIPTION:Tickets: https://tickets.mcc-events.de/leistungszentrum-mn/si/\
 nVeranstalter: Fraunhofer IPMS
DTSTAMP:20260420T082345Z
LOCATION:Fraunhofer-Institut für Integrierte Schaltungen IIS - Institutste
 il Entwicklung Adaptiver Systeme EAS\, Münchner Straße 16\, 01187 Dresde
 n
SUMMARY:3D/2.5D System Integration
END:VEVENT
END:VCALENDAR
